BEGIN:VCALENDAR
VERSION:2.0
PRODID:-//TYPO3/NONSGML Calendarize//EN
BEGIN:VEVENT
UID:calendarize-denkmal-schuetzen-geschichte-erhalten-5
DTSTAMP:20260423T182039Z
DTSTART:20260428T124000Z
DTEND:20260428T152000Z
SUMMARY:Denkmal Schützen\, Geschichte erhalten.
DESCRIPTION:Am Dienstag\, dem 28. April um 14:40 Uhr treffen wir uns am Ba
 hnhof in Eschenlohe und haben dabei hochkarätige Gäste.  Dr. Sabine Weig
 and\, MdL und Denkmalpolitische Sprecherin der Grünen Fraktion im Bayeris
 chen Landtag\, und  Eva Kriner vom Landesbund für Vogel- und Naturschut
 z Bayern werden uns mit ihrem Fachwissen und wichtigen Impulsen unterstüt
 zen.    Der Hintergrund Zu Fuß gehen wir vom Bahnhof zu dem mittlerweil
 e stillgelegten Tunnelsystem "Olympiatunnel" und deren Bewohner*innen\, de
 n Fledermäusen.  Unter dem Decknamen "Ente"  hatten die Nazis 1944 das 
 Tunnelsystem in eine Flugzeugkleinteilefabrik umfunktioniert. Dort mussten
  Zwangsarbeiter unter menschenunwürdigen Bedingungen arbeiten und leben. 
  Wegen drohender Einsturzgefahr wurden 2023 die Tunnel für den Straßenve
 rkehr gesperrt. Heute verfallen sie\, abgesperrt und schweigend über die 
 Geschichte.    Ablauf Bitte zieht festes Schuhwerk und geeignete Kleidun
 g an. Um an den Ort zu gelangen\, gehen wir vom Weg ab durch den Wald. Fü
 r die Nachbesprechung und den gemütlichen Ausklang ist ein Tisch in der T
 averne Athen reserviert. Ihr könnt mit ca. 60 Min. Gehzeit plus ca. 10 Mi
 n. Rückweg vom Restaurant zum Bahnhof rechnen.  
X-ALT-DESC;FMTTYPE=text/html:Am Dienstag\, dem 28. April um 14:40 Uhr tref
 fen wir uns am Bahnhof in Eschenlohe und haben dabei hochkarätige Gäste.
   Dr. Sabine Weigand\, MdL und Denkmalpolitische Sprecherin der Grünen Fr
 aktion im Bayerischen Landtag\, und  Eva Kriner vom Landesbund für Voge
 l- und Naturschutz Bayern werden uns mit ihrem Fachwissen und wichtigen Im
 pulsen unterstützen.    Der Hintergrund Zu Fuß gehen wir vom Bahnhof z
 u dem mittlerweile stillgelegten Tunnelsystem "Olympiatunnel" und deren Be
 wohner*innen\, den Fledermäusen.  Unter dem Decknamen "Ente"  hatten di
 e Nazis 1944 das Tunnelsystem in eine Flugzeugkleinteilefabrik umfunktioni
 ert. Dort mussten Zwangsarbeiter unter menschenunwürdigen Bedingungen arb
 eiten und leben.  Wegen drohender Einsturzgefahr wurden 2023 die Tunnel f
 ür den Straßenverkehr gesperrt. Heute verfallen sie\, abgesperrt und sch
 weigend über die Geschichte.    Ablauf Bitte zieht festes Schuhwerk und
  geeignete Kleidung an. Um an den Ort zu gelangen\, gehen wir vom Weg ab d
 urch den Wald. Für die Nachbesprechung und den gemütlichen Ausklang ist 
 ein Tisch in der Taverne Athen reserviert. Ihr könnt mit ca. 60 Min. Gehz
 eit plus ca. 10 Min. Rückweg vom Restaurant zum Bahnhof rechnen.  
LOCATION:
END:VEVENT
END:VCALENDAR
